BEGIN:VCALENDAR
VERSION:2.0
PRODID:icalendar-ruby
CALSCALE:GREGORIAN
METHOD:PUBLISH
BEGIN:VEVENT
DTSTAMP:20260424T092202Z
UID:7f219f98-f07e-45f8-b16d-6256542aa62c
DTSTART:20251221T090000
DTEND:20251227T210000
DESCRIPTION:<p><span style="color: rgb(0\, 0\, 0)\;">A nine-hole mini golf
  experience inspired by Disney’s “Zootropolis 2”\, presented by FNB
  and Mall of Africa\, featuring a collaboration with VW. It is located at 
 Waterfall City Park at the Mall of Africa. Offering an enchanting journey 
 through the vibrant world of Zootropolis\, it operates from 9 AM till 8 P
 M daily. Each hole brings to life scenes from the film’s bustling animal
  metropolis\, offering players of all ages a mix of challenge\, creativity
  and fun. </span></p><p><br></p><p><span style="color: rgb(0\, 0\, 0)\;">
 In Walt Disney Animation Studios’ “Zootropolis 2\,” rookie cops Judy
  Hopps (voiced by Ginnifer Goodwin)</span></p><p><span style="color: rgb(0
 \, 0\, 0)\;">and Nick Wilde (voiced by Jason Bateman) find themselves on t
 he twisting trail of a great mystery when</span></p><p><span style="color:
  rgb(0\, 0\, 0)\;">Gary De’Snake (voice of Ke Huy Quan) arrives in Zootr
 opolis and turns the animal metropolis upside down.</span></p><p><strong s
 tyle="color: rgb(0\, 0\, 0)\;">Release date: Only in cinemas 28 November 
 </strong></p>
LOCATION:Magwa Cres\, Waterval 5-Ir\, Midrand\, 1686
SUMMARY:Zootropolis 2 Inspired Mini Golf | 21 - 27 Dec
URL;VALUE=URI:https://mallofafrica.howler.co.za/zootropolis
END:VEVENT
END:VCALENDAR
